BEGIN:VCALENDAR
VERSION:2.0
METHOD:PUBLISH
BEGIN:VEVENT
UID:1897
DTSTAMP:{ts '2026-04-20 23:47:29'}
DTSTART;VALUE=DATE:20160310
DTEND;VALUE=DATE:20160313
SUMMARY:EXPODENTAL 2016
LOCATION:Madrid, SPAIN 
DESCRIPTION:WORKNC DENTAL will hold a joint booth at one of the biggest and most important dental sector’s benchmark trade fair in Europe for the entire oral and dental industry halls 3, 5 and 7 at Feria de Madrid, Spain. Come visit us and see what our members have to offer to the machining and Dental CAD/CAM industries. During the exhibition VERO will be at Pabellón 7 Stand 7D09  - http://es.worknc.com/events/EXPODENTAL_2016
CLASS:PUBLIC
END:VEVENT
END:VCALENDAR